BEGIN:VCALENDAR
VERSION:2.0
PRODID:-//Karaté Club Valais - ECPv4.6.21//NONSGML v1.0//EN
CALSCALE:GREGORIAN
METHOD:PUBLISH
X-WR-CALNAME:Karaté Club Valais
X-ORIGINAL-URL:https://kcvalais.ch
X-WR-CALDESC:Events for Karaté Club Valais
BEGIN:VEVENT
DTSTART;TZID=Europe/Zurich:20180428T090000
DTEND;TZID=Europe/Zurich:20180428T113000
DTSTAMP:20260423T090138
CREATED:20170927T210232Z
LAST-MODIFIED:20180408T162850Z
UID:5121-1524906000-1524915000@kcvalais.ch
SUMMARY:STAGE PRÉPARATION CHAMPIONNATS VS
DESCRIPTION:  \n9h00 – 11h30 :\nSTAGE DE compétition et DE PRÉPARATION AUX championnats valaisans\n\nPour tous les enfants dès la ceinture jaune. \n  \nInscriptions et paiement sur place : CHF 10.- \n  \nCALENDRIER PDF\n
URL:https://kcvalais.ch/calendrier/stage-competition-1-2018/
LOCATION:Rue du Scex 4\, Sion\, 1950\, Suisse
ORGANIZER;CN="Karat%C3%A9%20Club%20Valais":MAILTO:info@kcvalais.ch
END:VEVENT
END:VCALENDAR