BEGIN:VCALENDAR
VERSION:2.0
PRODID:-//Karaté Club Valais - ECPv4.6.21//NONSGML v1.0//EN
CALSCALE:GREGORIAN
METHOD:PUBLISH
X-WR-CALNAME:Karaté Club Valais
X-ORIGINAL-URL:https://kcvalais.ch
X-WR-CALDESC:Events for Karaté Club Valais
BEGIN:VEVENT
DTSTART;TZID=UTC+0:20171111T090000
DTEND;TZID=UTC+0:20171111T120000
DTSTAMP:20260423T085716
CREATED:20171010T200034Z
LAST-MODIFIED:20171011T092252Z
UID:326-1510390800-1510401600@kcvalais.ch
SUMMARY:STAGE DOMINIQUE VALERA\, 9E DAN
DESCRIPTION:  \nSTAGE DE KARATÉ DÉFENSE\nDOMINIQUE VALERA\, 9E DAN  |  OLIVIER KNUPFER\, 7E DAN\nDominique Valera est un passionné\, un guerrier\, un expert devenu sage. Avec un palmarès sportif impressionnant\, Dominique Valera s’est inscrit dans l’histoire des arts martiaux. Il est devenu une icône et a su se faire connaitre tant pour ses combats que ses connaissances techniques hors normes. \nMultiple fois champion d’Europe\, multiple fois médaillé mondial\, champion du monde par équipes\, le titre de champion du monde en individuel lui a échappé au dernier moment suite à une disqualification due à un désaccord avec un arbitre aux championnats du monde de 1975 à Long Beach\, Californie. \nAprès ce jour fatidique\, aux côtés de son ami Bill Wallace\, champion du monde de karaté professionnel\, Dominque Valera s’initie et se perfectionne dans cette nouvelle discipline révolutionnaire. Il participe à une compétition de ce style aux Etats-Unis et fait forte impression. Dominique Valera devient ensuite le pionnier du karaté full-contact en Europe. \nDominique Valera s’est également fait connaitre au cinéma aux côtés d’Alain Delon\, Michel Serrault\, Philippe Noiret et Johnny Hallyday !  En plus de ses rôles (souvent de vilain ou de policier) dans des films d’action des années 80\, Valera sera également très prisé en tant que coach d’acteurs. Dans les mots de Jean-Paul Belmondo : “Valera est à la vie ce que je suis à l’écran : un homme seul\, capable d’affronter plusieurs adversaires. ” \nDominique Valera a rencontré Jean-Claude Knupfer en finale des Championnats d’Europe de 1974. La Suisse s’inclinera devant la France\, mais Jean-Claude et Dominique resteront des amis très proches et tous deux joueront un rôle important dans la formation d’Olivier Knupfer et durant toute sa carrière sportive. \nAujourd’hui expert fédéral français\, Dominique Valera parcourt le monde afin de transmettre son savoir et d’enseigner le karaté\, un sport aux valeurs saines. \nCliquez ici pour les photos des derniers stages de Dominique Valera pour le Karaté Club Valais. \nEnfants dès la ceinture jaune  |  Adultes tous niveaux \nInscriptions et paiement sur place : CHF 20.- membres Association Valaisanne de Karaté  |  CHF 30.- non membres \n
URL:https://kcvalais.ch/calendrier/valera-2017/
LOCATION:Avenue de la Gare 45\, Sion\, Suisse
ORGANIZER;CN="Karat%C3%A9%20Club%20Valais":MAILTO:info@kcvalais.ch
END:VEVENT
END:VCALENDAR